BEGIN:VCALENDAR
VERSION:2.0
PRODID:-//ActiveBury//Events//EN
CALSCALE:GREGORIAN
BEGIN:VEVENT
UID:event-1175@activebury.com
DTSTAMP:20260425T133427Z
SUMMARY:Valerie & Margot
DTSTART:20260308T130000
DTEND:20260308T160000
LOCATION:Bordeleau Vineyard & Winery\, 3155 Noble Farm Road\, Eden\, MD 21822
DESCRIPTION:More info: https://www.bordeleauwine.com/events\nActiveBury: https://www.activebury.com/events/1175
URL:https://www.activebury.com/events/1175
END:VEVENT
END:VCALENDAR
