BEGIN:VCALENDAR
VERSION:2.0
PRODID:-//ActiveBury//Events//EN
CALSCALE:GREGORIAN
BEGIN:VEVENT
UID:event-1174@activebury.com
DTSTAMP:20260425T133414Z
SUMMARY:Bill Dickson
DTSTART:20260307T140000
DTEND:20260307T170000
LOCATION:Bordeleau Vineyard & Winery\, 3155 Noble Farm Road\, Eden\, MD 21822
DESCRIPTION:More info: https://www.bordeleauwine.com/events\nActiveBury: https://www.activebury.com/events/1174
URL:https://www.activebury.com/events/1174
END:VEVENT
END:VCALENDAR
