BEGIN:VCALENDAR
VERSION:2.0
PRODID:-//ActiveBury//Events//EN
CALSCALE:GREGORIAN
BEGIN:VEVENT
UID:event-1173@activebury.com
DTSTAMP:20260425T133418Z
SUMMARY:Matt Lafferty
DTSTART:20260301T130000
DTEND:20260301T160000
LOCATION:Bordeleau Vineyard & Winery\, 3155 Noble Farm Road\, Eden\, MD 21822
DESCRIPTION:More info: https://www.bordeleauwine.com/events\nActiveBury: https://www.activebury.com/events/1173
URL:https://www.activebury.com/events/1173
END:VEVENT
END:VCALENDAR
