BEGIN:VCALENDAR
VERSION:2.0
PRODID:-//ActiveBury//Events//EN
CALSCALE:GREGORIAN
BEGIN:VEVENT
UID:event-1171@activebury.com
DTSTAMP:20260425T133953Z
SUMMARY:Sippin' with Sloths at Bordeleau Winery
DTSTART:20260227T170000
DTEND:20260227T200000
LOCATION:Bordeleau Vineyard & Winery\, 3155 Noble Farm Road\, Eden\, MD 21822
DESCRIPTION:More info: https://www.bordeleauwine.com/events\nActiveBury: https://www.activebury.com/events/1171
URL:https://www.activebury.com/events/1171
END:VEVENT
END:VCALENDAR
