BEGIN:VCALENDAR
VERSION:2.0
PRODID:-//ActiveBury//Events//EN
CALSCALE:GREGORIAN
BEGIN:VEVENT
UID:event-1170@activebury.com
DTSTAMP:20260425T133447Z
SUMMARY:Endless Ember
DTSTART:20260222T130000
DTEND:20260222T160000
LOCATION:Bordeleau Vineyard & Winery\, 3155 Noble Farm Road\, Eden\, MD 21822
DESCRIPTION:More info: https://www.bordeleauwine.com/events\nActiveBury: https://www.activebury.com/events/1170
URL:https://www.activebury.com/events/1170
END:VEVENT
END:VCALENDAR
