BEGIN:VCALENDAR
VERSION:2.0
PRODID:-//ActiveBury//Events//EN
CALSCALE:GREGORIAN
BEGIN:VEVENT
UID:event-117@activebury.com
DTSTAMP:20260425T182823Z
SUMMARY:Over 30 Pickup Soccer
DTSTART:20260514T200000
DTEND:20260514T220000
LOCATION:Crown Sports Center
DESCRIPTION:Pickup soccer. $10 to play\, come early!\nMore info: playatcrown.com/adult-sports/\nActiveBury: https://www.activebury.com/events/117
URL:https://www.activebury.com/events/117
END:VEVENT
END:VCALENDAR
