BEGIN:VCALENDAR
VERSION:2.0
PRODID:-//ActiveBury//Events//EN
CALSCALE:GREGORIAN
BEGIN:VEVENT
UID:event-1169@activebury.com
DTSTAMP:20260425T133446Z
SUMMARY:Tom Flanagan
DTSTART:20260221T140000
DTEND:20260221T170000
LOCATION:Bordeleau Vineyard & Winery\, 3155 Noble Farm Road\, Eden\, MD 21822
DESCRIPTION:More info: https://www.bordeleauwine.com/events\nActiveBury: https://www.activebury.com/events/1169
URL:https://www.activebury.com/events/1169
END:VEVENT
END:VCALENDAR
