BEGIN:VCALENDAR
VERSION:2.0
PRODID:-//ActiveBury//Events//EN
CALSCALE:GREGORIAN
BEGIN:VEVENT
UID:event-1168@activebury.com
DTSTAMP:20260425T134537Z
SUMMARY:Meet local author Stephanie L. Fowler
DTSTART;VALUE=DATE:20260131
DTEND;VALUE=DATE:20260201
LOCATION:Bordeleau Vineyard & Winery\, 3155 Noble Farm Road\, Eden\, MD 21822
DESCRIPTION:More info: https://www.bordeleauwine.com/events\nActiveBury: https://www.activebury.com/events/1168
URL:https://www.activebury.com/events/1168
END:VEVENT
END:VCALENDAR
