BEGIN:VCALENDAR
VERSION:2.0
PRODID:-//ActiveBury//Events//EN
CALSCALE:GREGORIAN
BEGIN:VEVENT
UID:event-1167@activebury.com
DTSTAMP:20260425T134530Z
SUMMARY:Urban Sage Galentine’s Spa Party
DTSTART;VALUE=DATE:20260214
DTEND;VALUE=DATE:20260215
LOCATION:Downtown Salisbury
DESCRIPTION:More info: https://urbansagesalon.glossgenius.com/\nActiveBury: https://www.activebury.com/events/1167
URL:https://www.activebury.com/events/1167
END:VEVENT
END:VCALENDAR
