BEGIN:VCALENDAR
VERSION:2.0
PRODID:-//ActiveBury//Events//EN
CALSCALE:GREGORIAN
BEGIN:VEVENT
UID:event-1166@activebury.com
DTSTAMP:20260425T134005Z
SUMMARY:Paint Your Pet® Portrait - Salisbury
DTSTART;VALUE=DATE:20260203
DTEND;VALUE=DATE:20260204
LOCATION:Downtown Salisbury
DESCRIPTION:More info: https://www.tcstudios.org/events/roadiejoes2326\nActiveBury: https://www.activebury.com/events/1166
URL:https://www.activebury.com/events/1166
END:VEVENT
END:VCALENDAR
