BEGIN:VCALENDAR
VERSION:2.0
PRODID:-//ActiveBury//Events//EN
CALSCALE:GREGORIAN
BEGIN:VEVENT
UID:event-1165@activebury.com
DTSTAMP:20260425T143027Z
SUMMARY:Downtown Valentine's Day Shop Local Event
DTSTART;VALUE=DATE:20260214
DTEND;VALUE=DATE:20260215
LOCATION:Downtown Salisbury
DESCRIPTION:More info: https://salisbury.md/01/20/2026/downtown-salisbury-announces-valentines-day-celebration\nActiveBury: https://www.activebury.com/events/1165
URL:https://www.activebury.com/events/1165
END:VEVENT
END:VCALENDAR
