BEGIN:VCALENDAR
VERSION:2.0
PRODID:-//ActiveBury//Events//EN
CALSCALE:GREGORIAN
BEGIN:VEVENT
UID:event-1164@activebury.com
DTSTAMP:20260425T134006Z
SUMMARY:18th Annual St. Patrick's Day 5k
DTSTART:20260314T090000
LOCATION:Fretterd Community Center
DESCRIPTION:Join us Saturday March14th 9am start (Dash at 830) for the 18th Annual St Paddy's day Run\, Walk and Leprechaun dash. Sign up by Feb 20th for a guaranteed shirt that I guarantee you will not want to miss...\nSign up with our friends at seashore striders:\n\nhttps://runsignup.com/.../StPatricksDay5k1mFunRun200mKidd...\n\nRemember 100% of the proceeds go towards scholarships for children's programming.\nMore info: https://runsignup.com/Race/MD/Denton/StPatricksDay5k1mFunRun200mKiddieDash?fbclid=IwY2xjawPdEl5leHRuA2FlbQIxMABicmlkETFUbE5WazdMY1hlandlRmxOc3J0YwZhcHBfaWQQMjIyMDM5MTc4ODIwMDg5MgABHvKnxEkSTSPPjwFJbjI0fH1DbykUhyja-VUeXzXczdhfXsFKA60SUYYCa_bE_aem_aEWjRi0VnnNmDRRAWQcvAA\nActiveBury: https://www.activebury.com/events/1164
URL:https://www.activebury.com/events/1164
END:VEVENT
END:VCALENDAR
