BEGIN:VCALENDAR
VERSION:2.0
PRODID:-//ActiveBury//Events//EN
CALSCALE:GREGORIAN
BEGIN:VEVENT
UID:event-1158@activebury.com
DTSTAMP:20260425T133447Z
SUMMARY:Drop in Pickleball
DTSTART:20260120T174500
DTEND:20260120T204500
LOCATION:Salisbury Middle School
DESCRIPTION:Drop-In for a game of pickleball at Salisbury Middle School. \n\nFour courts with temporary netting provided. \n\nIt is encouraged to bring your own paddle and balls\, a limited quantity will be provided. \n\nAge Group(s): All ages are welcome\nDate(s): Nov. 18-25\, Dec. 2-18\, Jan. 6-30\, Feb. 3-27\, Mar. 3-6\, 2026\nTime(s): Tuesdays\, Thursdays\; 5:45-8:45 p.m.\nLocation(s): Salisbury Middle School\nRegistration Dates: Drop-in\nProgram Fee: $5/person\, per day\nMore info: https://www.wicomicorecandparks.org/programs/drop-in-pickleball\nActiveBury: https://www.activebury.com/events/1158
URL:https://www.activebury.com/events/1158
END:VEVENT
END:VCALENDAR
