BEGIN:VCALENDAR
VERSION:2.0
PRODID:-//ActiveBury//Events//EN
CALSCALE:GREGORIAN
BEGIN:VEVENT
UID:event-1155@activebury.com
DTSTAMP:20260425T133953Z
SUMMARY:ChincoTiki Wacky Wednesday Free Bingo!
DTSTART:20260624T180000
LOCATION:Chinco Tiki
DESCRIPTION:Free Bingo nigh! $5 Crushes\, $3 Domestics and Shot of the Day. $10 for all you can eat soup and corn bread! Hosted by Allan\nMore info: https://www.facebook.com/ChincoTiki\nActiveBury: https://www.activebury.com/events/1155
URL:https://www.activebury.com/events/1155
END:VEVENT
END:VCALENDAR
