BEGIN:VCALENDAR
VERSION:2.0
PRODID:-//ActiveBury//Events//EN
CALSCALE:GREGORIAN
BEGIN:VEVENT
UID:event-1132@activebury.com
DTSTAMP:20260425T134530Z
SUMMARY:Salisbury Zoo Public Forum
DTSTART:20260128T180000
LOCATION:Parkside High School Auditorium
DESCRIPTION:he Salisbury Zoo invites community members to attend a public forum at 6 p.m. Wednesday\, Jan. 28\, at the Parkside High School Auditorium\, inviting community members to learn more about the Zoo’s recent updates\, future direction\, the AZA reaccreditation process and ongoing work to protect wildlife through education and conservation.\n\nThis informational and planning-focused meeting will provide an overview of current initiatives\, long-term goals\, and potential improvements aimed at enhancing animal care\, guest experiences\, and community engagement. Attendees will have the opportunity to ask questions\, offer input\, and participate in shaping the Zoo’s continued growth and evolution.\n\n“The Salisbury Zoo belongs to our community\,” said Zoo Director Chuck Eicholz. “We are all about listening\, sharing information transparently\, and working together to plan a future that reflects our mission and the needs of our visitors.”\n\nThe meeting is open to the public and welcomes families\, stakeholders\, neighbors\, and Zoo supporters. Feedback gathered during the session will help inform planning efforts and guide future decision-making.\n\nCommunity input is an important part of the Zoo’s planning process. Residents are encouraged to share their thoughts and perspectives by completing a brief survey ahead of the forum at: https://forms.gle/8MkgkAZVp3sReeG66\n\nThe Salisbury Zoo welcomes all interested community members to attend and participate in the conversation.\nMore info: https://salisburyzoo.org/\nActiveBury: https://www.activebury.com/events/1132
URL:https://www.activebury.com/events/1132
END:VEVENT
END:VCALENDAR
