BEGIN:VCALENDAR
VERSION:2.0
PRODID:-//ActiveBury//Events//EN
CALSCALE:GREGORIAN
BEGIN:VEVENT
UID:event-1131@activebury.com
DTSTAMP:20260425T134005Z
SUMMARY:High Tea at Lady Grace's Tearoom
DTSTART:20260117T120000
LOCATION:Lady Grace's Tearoom
DESCRIPTION:Reservations required please call ahead!\nMore info: https://ladygracebandb.com/\nActiveBury: https://www.activebury.com/events/1131
URL:https://www.activebury.com/events/1131
END:VEVENT
END:VCALENDAR
