BEGIN:VCALENDAR
VERSION:2.0
PRODID:-//ActiveBury//Events//EN
CALSCALE:GREGORIAN
BEGIN:VEVENT
UID:event-1130@activebury.com
DTSTAMP:20260425T133423Z
SUMMARY:Mens Breakfast
DTSTART:20260117T080000
LOCATION:Crisfield Church of God
DESCRIPTION:Come join the men's breakfast!\nMore info: https://www.facebook.com/COGChurchByTheBay/\nActiveBury: https://www.activebury.com/events/1130
URL:https://www.activebury.com/events/1130
END:VEVENT
END:VCALENDAR
