BEGIN:VCALENDAR
VERSION:2.0
PRODID:-//ActiveBury//Events//EN
CALSCALE:GREGORIAN
BEGIN:VEVENT
UID:event-1129@activebury.com
DTSTAMP:20260425T133905Z
SUMMARY:Fritter Friday and Movie Night
DTSTART:20260116T150000
DTEND:20260116T210000
LOCATION:Crisfield Church of God
DESCRIPTION:Come get some fritters\, and clam chowder. Followed by a movie night starting at 6!\nMore info: https://www.facebook.com/COGChurchByTheBay/\nActiveBury: https://www.activebury.com/events/1129
URL:https://www.activebury.com/events/1129
END:VEVENT
END:VCALENDAR
