BEGIN:VCALENDAR
VERSION:2.0
PRODID:-//ActiveBury//Events//EN
CALSCALE:GREGORIAN
BEGIN:VEVENT
UID:event-1128@activebury.com
DTSTAMP:20260425T134005Z
SUMMARY:Crisfield Elks All you can eat Venison!
DTSTART:20260116T183000
DTEND:20260116T210000
LOCATION:Crisfield Elks Lodge #1044
DESCRIPTION:All you can eat venison dinner!\nMore info: https://www.crisfieldelks1044.com/\nActiveBury: https://www.activebury.com/events/1128
URL:https://www.activebury.com/events/1128
END:VEVENT
END:VCALENDAR
