BEGIN:VCALENDAR
VERSION:2.0
PRODID:-//ActiveBury//Events//EN
CALSCALE:GREGORIAN
BEGIN:VEVENT
UID:event-1112@activebury.com
DTSTAMP:20260425T134536Z
SUMMARY:Camden Ave Farmers Market
DTSTART:20260324T143000
DTEND:20260324T173000
LOCATION:1401 Camden Ave\, Salisbury MD
DESCRIPTION:If you are looking for the best local fresh foods to feed your family\, come by the Market!\nMore info: https://www.facebook.com/CamdenAvenueFarmersMarket/\nActiveBury: https://www.activebury.com/events/1112
URL:https://www.activebury.com/events/1112
END:VEVENT
END:VCALENDAR
