BEGIN:VCALENDAR
VERSION:2.0
PRODID:-//ActiveBury//Events//EN
CALSCALE:GREGORIAN
BEGIN:VEVENT
UID:event-1098@activebury.com
DTSTAMP:20260425T153442Z
SUMMARY:Rooted Grounds Coffee Trailer
DTSTART:20260124T080000
DTEND:20260124T120000
LOCATION:The Mill of Bel Air Address: 424 N Main St\, Bel Air\, MD 21014 We’re excited to welcome Rooted Grounds Coffee to The Mill of Bel Air during our Ready-to-Lay Pullet Pick-Up on Friday\, January 24 . Roote
DESCRIPTION:We’re excited to welcome Rooted Grounds Coffee to The Mill of Bel Air during our Ready-to-Lay Pullet Pick-Up on Friday\, January 24 .\n\nRooted Grounds will be set up and serving fresh coffee from 8:00 AM to 12:00 PM \, giving customers a warm pick-me-up while they pick up their birds or shop the store.\n\nWhether you’re arriving early for pullet pick-up or stopping in to take advantage of the One-Day Nutrena Sale \, be sure to grab a cup and support this local coffee vendor.\n\nWe look forward to seeing you — birds\, coffee\, and all — at The Mill of Bel Air!\nMore info: https://www.themillstores.com/pages/events/rooted-grounds-coffee-trailer\nActiveBury: https://www.activebury.com/events/1098
URL:https://www.activebury.com/events/1098
END:VEVENT
END:VCALENDAR
