BEGIN:VCALENDAR
VERSION:2.0
PRODID:-//ActiveBury//Events//EN
CALSCALE:GREGORIAN
BEGIN:VEVENT
UID:event-1097@activebury.com
DTSTAMP:20260425T233102Z
SUMMARY:Ready To Lay Pick-Up One-Day Nutrena Sale
DTSTART;VALUE=DATE:20260124
DTEND;VALUE=DATE:20260125
LOCATION:The Mill of Bel Air Address: 424 N Main St\, Bel Air\, MD 21014 Join The Mill of Bel Air on Friday\, January 24 for a special Ready-to-Lay Chick Pick-Up paired with a One-Day Nutrena Sale . Whether you’r
DESCRIPTION:Join The Mill of Bel Air on Friday\, January 24 for a special Ready-to-Lay Chick Pick-Up paired with a One-Day Nutrena Sale .\n\nWhether you’re picking up ready-to-lay birds or stocking up on trusted Nutrena poultry feed\, this one-day event is a great opportunity to prepare your flock for success. Our team will be available to answer questions and help you choose the right nutrition for healthy\, productive layers.\n\nStop in\, take advantage of the Nutrena savings\, and get your flock off to a strong start.\nMore info: https://www.themillstores.com/pages/events/ready-to-lay-pick-up-one-day-nutrena-sale\nActiveBury: https://www.activebury.com/events/1097
URL:https://www.activebury.com/events/1097
END:VEVENT
END:VCALENDAR
