BEGIN:VCALENDAR
VERSION:2.0
PRODID:-//ActiveBury//Events//EN
CALSCALE:GREGORIAN
BEGIN:VEVENT
UID:event-1096@activebury.com
DTSTAMP:20260425T133414Z
SUMMARY:UME Pruning Workshop
DTSTART:20260123T110000
DTEND:20260123T143000
LOCATION:The Mill of Salisbury Address: 308 Mill St\, Salisbury\, MD 21801 University of Maryland Extension and The Mill present a joint Pruning Workshop designed for perennial fruit growers looking to improve y
DESCRIPTION:University of Maryland Extension and The Mill present a joint Pruning Workshop designed for perennial fruit growers looking to improve yield\, fruit quality\, and long-term plant health.\n\nThis educational program will cover pruning fundamentals for apples\, peaches\, blueberries\, blackberries \, and other perennial fruit crops. The workshop begins at The Mill with indoor instruction and concludes with hands-on pruning demonstrations at the University of Maryland Lower Eastern Shore Research and Extension Center (LESREC) .\n\nParticipants will practice pruning techniques in the field and receive guided instruction and feedback from Extension educators.\n\n11:00 AM – 12:00 PM Indoor pruning instruction and demonstrations at The Mill 12:00 – 1:00 PM Lunch followed by travel to LESREC 1:00 – 2:30 PM Hands-on blueberry and blackberry pruning at LESREC\n\nLunch and a pair of hand pruners are included.\n\nThe workshop will begin upstairs at The Mill \, accessible by a flight of stairs. If you need a reasonable accommodation to participate\, or if you are unable to climb stairs\, please contact:\n\nHaley Sater 📞 301-226-7718 📧 hsater@umd.edu\n\nThis workshop is ideal for growers looking to strengthen pruning skills through both classroom learning and hands-on application.\nMore info: https://www.themillstores.com/pages/events/ume-pruning-workshop\nActiveBury: https://www.activebury.com/events/1096
URL:https://www.activebury.com/events/1096
END:VEVENT
END:VCALENDAR
