BEGIN:VCALENDAR
VERSION:2.0
PRODID:-//ActiveBury//Events//EN
CALSCALE:GREGORIAN
BEGIN:VEVENT
UID:event-1095@activebury.com
DTSTAMP:20260425T133421Z
SUMMARY:Lower Shore Agronomy Day
DTSTART:20260122T084500
DTEND:20260122T144500
LOCATION:Wicomico Civic Center Address: 500 Glen Ave\, Salisbury\, MD 21804 The University of Maryland Extension will host Lower Shore Agronomy Day on Wednesday\, January 22\, 2025 \, at the Wicomico Youth & Civic
DESCRIPTION:The University of Maryland Extension will host Lower Shore Agronomy Day on Wednesday\, January 22\, 2025 \, at the Wicomico Youth & Civic Center in Salisbury\, Maryland.\n\nEvent Time: 8:45 AM – 2:45 PM Light breakfast begins at 8:00 AM Hot lunch included This is a free event\n\nThis program offers Maryland and Delaware continuing education credits in:\n\nOr call the Somerset Extension Office at 410-651-1350 .\n\nThis educational event provides timely research and practical insights for growers across the Lower Shore.\nMore info: https://www.themillstores.com/pages/events/lower-shore-agronomy-day\nActiveBury: https://www.activebury.com/events/1095
URL:https://www.activebury.com/events/1095
END:VEVENT
END:VCALENDAR
