BEGIN:VCALENDAR
VERSION:2.0
PRODID:-//ActiveBury//Events//EN
CALSCALE:GREGORIAN
BEGIN:VEVENT
UID:event-1094@activebury.com
DTSTAMP:20260425T152940Z
SUMMARY:Chicken Chat
DTSTART;VALUE=DATE:20260121
DTEND;VALUE=DATE:20260122
LOCATION:The Mill of Bel Air Address: 424 N Main St\, Bel Air\, MD 21014 Join The Mill of Bel Air on Tuesday\, January 21 for Chicken Chat w/ Coffee with the Chicken Ladies ! Stop in\, grab a cup of coffee\, and en
DESCRIPTION:Join The Mill of Bel Air on Tuesday\, January 21 for Chicken Chat w/ Coffee with the Chicken Ladies !\n\nStop in\, grab a cup of coffee\, and enjoy a casual\, informative conversation all about backyard chickens. Whether you’re new to poultry or a seasoned chicken keeper\, this is a great opportunity to ask questions\, share experiences\, and learn tips from The Mill’s Chicken Ladies.\n\nThis relaxed\, community-focused event is perfect for anyone interested in flock care\, feeding\, seasonal considerations\, and general chicken know-how.\n\nWe look forward to chatting chickens with you at The Mill of Bel Air!\nMore info: https://www.themillstores.com/pages/events/chicken-chat\nActiveBury: https://www.activebury.com/events/1094
URL:https://www.activebury.com/events/1094
END:VEVENT
END:VCALENDAR
