BEGIN:VCALENDAR
VERSION:2.0
PRODID:-//ActiveBury//Events//EN
CALSCALE:GREGORIAN
BEGIN:VEVENT
UID:event-1093@activebury.com
DTSTAMP:20260425T110747Z
SUMMARY:Backyard Farming
DTSTART:20260117T100000
DTEND:20260117T150000
LOCATION:The Mill of Salisbury Address: 308 Mill St\, Salisbury\, MD 21801 Join the University of Maryland Extension at The Mill of Salisbury on Saturday\, January 17\, 2026 \, for a Backyard Farming educational ev
DESCRIPTION:Join the University of Maryland Extension at The Mill of Salisbury on Saturday\, January 17\, 2026 \, for a Backyard Farming educational event focused on small ruminants and backyard poultry.\n\nThroughout the day\, attendees can take part in in-person presentations and demonstrations covering backyard poultry and small ruminant topics. Sessions will be offered at various times\, with a full schedule announced closer to the event date.\n\nPlease note: Presentations will be held upstairs \, which is accessible by a flight of stairs .\n\nThis event is a great opportunity for backyard farmers\, hobbyists\, and those interested in small-scale livestock to learn from Extension experts in a local\, hands-on setting.\n\nWe look forward to welcoming you to The Mill of Salisbury!\nMore info: https://www.themillstores.com/pages/events/backyard-farming\nActiveBury: https://www.activebury.com/events/1093
URL:https://www.activebury.com/events/1093
END:VEVENT
END:VCALENDAR
