BEGIN:VCALENDAR
VERSION:2.0
PRODID:-//ActiveBury//Events//EN
CALSCALE:GREGORIAN
BEGIN:VEVENT
UID:event-1090@activebury.com
DTSTAMP:20260425T133430Z
SUMMARY:Sip and Speak
DTSTART:20260604T180000
DTEND:20260604T210000
LOCATION:Pemberton Coffeehouse
DESCRIPTION:Come try your hand at poetry in a laid back atmosphere!\nMore info: https://www.facebook.com/Pembertoncoffeehouse/\nActiveBury: https://www.activebury.com/events/1090
URL:https://www.activebury.com/events/1090
END:VEVENT
END:VCALENDAR
