BEGIN:VCALENDAR
VERSION:2.0
PRODID:-//ActiveBury//Events//EN
CALSCALE:GREGORIAN
BEGIN:VEVENT
UID:event-1088@activebury.com
DTSTAMP:20260425T133436Z
SUMMARY:Sip and Speak
DTSTART:20260402T180000
DTEND:20260402T210000
LOCATION:Pemberton Coffeehouse
DESCRIPTION:Come try your hand at poetry in a laid back atmosphere!\nMore info: https://www.facebook.com/Pembertoncoffeehouse/\nActiveBury: https://www.activebury.com/events/1088
URL:https://www.activebury.com/events/1088
END:VEVENT
END:VCALENDAR
