BEGIN:VCALENDAR
VERSION:2.0
PRODID:-//ActiveBury//Events//EN
CALSCALE:GREGORIAN
BEGIN:VEVENT
UID:event-1084@activebury.com
DTSTAMP:20260425T143634Z
SUMMARY:Join us for a fun -filled toddler art class! Unleash your creativity
DTSTART:20260109T103000
LOCATION:Princess Anne
DESCRIPTION:together and create colorful memories on canvas. All materials plus snacks are provided. Registration required. TODDLER ART CLASS PENGUIN PRINCESS ANNE : Monday\, January 5 CRISFIELD : Wednesday\, January 7 HANDPRINT HEART TREE PRINCESS ANNE : Monday\, February 2 CRISFIELD : Wednesday\, February 4 10:30am PENGUIN CRISFIELD: FRIDAY\, JANUARY 9 PRINCESS ANNE: FRIDAY\, JANUARY 16 Family Paint Nights Join us for a fun -filled family paint night! Unleash your creativity together and create colorful memories on canvas. All materials plus food will be provided. Recommended ages 5 and up. Registration required. 5:30PM HEART CRISFIELD: FRIDAY\, FEBRUARY 6 PRINCESS ANNE: FRIDAY\, FEBRUARY 20\nMore info: https://drive.google.com/file/d/1zZqzELj_ZR73Axbn27gdjOUi8Qkv_iL5/view?usp=sharing\nActiveBury: https://www.activebury.com/events/1084
URL:https://www.activebury.com/events/1084
END:VEVENT
END:VCALENDAR
