BEGIN:VCALENDAR
VERSION:2.0
PRODID:-//ActiveBury//Events//EN
CALSCALE:GREGORIAN
BEGIN:VEVENT
UID:event-1072@activebury.com
DTSTAMP:20260425T133327Z
SUMMARY:Fridays
DTSTART;VALUE=DATE:20260131
DTEND;VALUE=DATE:20260201
LOCATION:Princess Anne
DESCRIPTION:PRINCESS ANNE: Fridays\, January 30th & February 20th Saturdays\, January 31st & February 21st ZUMBA Join Zumba instructor Deatrice Leonard for a fun fitness program that involves cardio and Latin -inspired dance! Registration required.\nMore info: https://drive.google.com/file/d/1zZqzELj_ZR73Axbn27gdjOUi8Qkv_iL5/view?usp=sharing\nActiveBury: https://www.activebury.com/events/1072
URL:https://www.activebury.com/events/1072
END:VEVENT
END:VCALENDAR
