BEGIN:VCALENDAR
VERSION:2.0
PRODID:-//ActiveBury//Events//EN
CALSCALE:GREGORIAN
BEGIN:VEVENT
UID:event-1065@activebury.com
DTSTAMP:20260425T133310Z
SUMMARY:Mindful Yoga
DTSTART:20260130T103000
DTEND:20260130T113000
LOCATION:Central Branch Denton
DESCRIPTION:Caroline County Public Library Presents: Mindful Yoga for Overall Well-Being\nMore info: https://carolinecounty.librarycalendar.com/event/mindful-yoga-1966\nActiveBury: https://www.activebury.com/events/1065
URL:https://www.activebury.com/events/1065
END:VEVENT
END:VCALENDAR
