BEGIN:VCALENDAR
VERSION:2.0
PRODID:-//ActiveBury//Events//EN
CALSCALE:GREGORIAN
BEGIN:VEVENT
UID:event-1064@activebury.com
DTSTAMP:20260425T133842Z
SUMMARY:Teen Tabletop Club
DTSTART:20260129T160000
DTEND:20260129T190000
LOCATION:Central Branch Denton
DESCRIPTION:Teen Tabletop Club is back for another session of Dungeons & Dragons! Whether you're a first-time player or seasoned adventurer\, there's always room at the table for one more. Dice will be provided\, as well as snacks and drinks.\nMore info: https://carolinecounty.librarycalendar.com/event/teen-tabletop-club-2167\nActiveBury: https://www.activebury.com/events/1064
URL:https://www.activebury.com/events/1064
END:VEVENT
END:VCALENDAR
