BEGIN:VCALENDAR
VERSION:2.0
PRODID:-//ActiveBury//Events//EN
CALSCALE:GREGORIAN
BEGIN:VEVENT
UID:event-1063@activebury.com
DTSTAMP:20260425T133325Z
SUMMARY:Lego Mania
DTSTART:20260128T170000
DTEND:20260128T190000
LOCATION:North County Branch Greensboro
DESCRIPTION:Calling all young builders!\nMore info: https://carolinecounty.librarycalendar.com/event/lego-mania-2139\nActiveBury: https://www.activebury.com/events/1063
URL:https://www.activebury.com/events/1063
END:VEVENT
END:VCALENDAR
