BEGIN:VCALENDAR
VERSION:2.0
PRODID:-//ActiveBury//Events//EN
CALSCALE:GREGORIAN
BEGIN:VEVENT
UID:event-1060@activebury.com
DTSTAMP:20260425T183012Z
SUMMARY:Tween Tabletop Club
DTSTART:20260127T160000
DTEND:20260127T190000
LOCATION:Federalsburg Branch
DESCRIPTION:Calling all adventurers ages 9-12! Monsters\, mayhem\, and merriment await you at the Federalsburg Library! No experience necessary. Prepare your actions and charge your spells for the next adventure!\nMore info: https://carolinecounty.librarycalendar.com/event/tween-tabletop-club-2169\nActiveBury: https://www.activebury.com/events/1060
URL:https://www.activebury.com/events/1060
END:VEVENT
END:VCALENDAR
