BEGIN:VCALENDAR
VERSION:2.0
PRODID:-//ActiveBury//Events//EN
CALSCALE:GREGORIAN
BEGIN:VEVENT
UID:event-1054@activebury.com
DTSTAMP:20260425T143123Z
SUMMARY:Paws for Reading
DTSTART:20260122T170000
DTEND:20260122T173000
LOCATION:Central Branch Denton
DESCRIPTION:Bring your child to read to Grigsby!\nMore info: https://carolinecounty.librarycalendar.com/event/paws-reading-2141\nActiveBury: https://www.activebury.com/events/1054
URL:https://www.activebury.com/events/1054
END:VEVENT
END:VCALENDAR
