BEGIN:VCALENDAR
VERSION:2.0
PRODID:-//ActiveBury//Events//EN
CALSCALE:GREGORIAN
BEGIN:VEVENT
UID:event-1053@activebury.com
DTSTAMP:20260425T133324Z
SUMMARY:Paws for Reading
DTSTART:20260122T163000
DTEND:20260122T170000
LOCATION:Central Branch Denton
DESCRIPTION:Bring your child to read to Grigsby!\nMore info: https://carolinecounty.librarycalendar.com/event/paws-reading-2291\nActiveBury: https://www.activebury.com/events/1053
URL:https://www.activebury.com/events/1053
END:VEVENT
END:VCALENDAR
