BEGIN:VCALENDAR
VERSION:2.0
PRODID:-//ActiveBury//Events//EN
CALSCALE:GREGORIAN
BEGIN:VEVENT
UID:event-1050@activebury.com
DTSTAMP:20260425T133418Z
SUMMARY:Winter/Spring Storytime
DTSTART:20260121T103000
DTEND:20260121T113000
LOCATION:Central Branch Denton
DESCRIPTION:Join us for a half-hour of fun songs\, stories\, and fingerplays that encourage the development of early literacy skills.\nMore info: https://carolinecounty.librarycalendar.com/event/winterspring-storytime-2050\nActiveBury: https://www.activebury.com/events/1050
URL:https://www.activebury.com/events/1050
END:VEVENT
END:VCALENDAR
