BEGIN:VCALENDAR
VERSION:2.0
PRODID:-//ActiveBury//Events//EN
CALSCALE:GREGORIAN
BEGIN:VEVENT
UID:event-1049@activebury.com
DTSTAMP:20260425T133304Z
SUMMARY:Mindful Yoga
DTSTART:20260121T103000
DTEND:20260121T113000
LOCATION:Federalsburg Branch
DESCRIPTION:Caroline County Public Library Presents: Mindful Yoga for Overall Well-Being\nMore info: https://carolinecounty.librarycalendar.com/event/mindful-yoga-1970\nActiveBury: https://www.activebury.com/events/1049
URL:https://www.activebury.com/events/1049
END:VEVENT
END:VCALENDAR
