BEGIN:VCALENDAR
VERSION:2.0
PRODID:-//ActiveBury//Events//EN
CALSCALE:GREGORIAN
BEGIN:VEVENT
UID:event-1048@activebury.com
DTSTAMP:20260425T133416Z
SUMMARY:Tech Tuesdays
DTSTART:20260120T140000
DTEND:20260120T160000
LOCATION:Central Branch Denton
DESCRIPTION:Need Help with Technology? Join us for Tech Tuesdays—a weekly drop-in support session designed to help adults and seniors with basic digital skills.\nMore info: https://carolinecounty.librarycalendar.com/event/tech-tuesdays-2347\nActiveBury: https://www.activebury.com/events/1048
URL:https://www.activebury.com/events/1048
END:VEVENT
END:VCALENDAR
