BEGIN:VCALENDAR
VERSION:2.0
PRODID:-//ActiveBury//Events//EN
CALSCALE:GREGORIAN
BEGIN:VEVENT
UID:event-1047@activebury.com
DTSTAMP:20260425T134520Z
SUMMARY:Federalsburg Bookies
DTSTART:20260120T130000
DTEND:20260120T140000
LOCATION:Federalsburg Branch
DESCRIPTION:Federalsburg Bookies book discussion group meets in person at the Federalsburg Branch Library on the third Tuesday of each month at 1pm. This group reads a variety of fiction.\nMore info: https://carolinecounty.librarycalendar.com/event/federalsburg-bookies-2514\nActiveBury: https://www.activebury.com/events/1047
URL:https://www.activebury.com/events/1047
END:VEVENT
END:VCALENDAR
