BEGIN:VCALENDAR
VERSION:2.0
PRODID:-//ActiveBury//Events//EN
CALSCALE:GREGORIAN
BEGIN:VEVENT
UID:event-1046@activebury.com
DTSTAMP:20260425T133416Z
SUMMARY:Winter/Spring Storytime
DTSTART:20260120T103000
DTEND:20260120T113000
LOCATION:North County Branch Greensboro
DESCRIPTION:Join us for a half-hour of fun songs\, stories\, and fingerplays that encourage the development of early literacy skills.\nMore info: https://carolinecounty.librarycalendar.com/event/winter-storytime-2016\nActiveBury: https://www.activebury.com/events/1046
URL:https://www.activebury.com/events/1046
END:VEVENT
END:VCALENDAR
