BEGIN:VCALENDAR
VERSION:2.0
PRODID:-//ActiveBury//Events//EN
CALSCALE:GREGORIAN
BEGIN:VEVENT
UID:event-1045@activebury.com
DTSTAMP:20260425T133328Z
SUMMARY:Holiday closing
DTSTART;VALUE=DATE:20260119
DTEND;VALUE=DATE:20260120
DESCRIPTION:Jan 19 2026 Mon Holiday closing All Day Closing Jan 19 2026 Mon Closing Holiday closing All Day Branches: Central Branch Denton\, Federalsburg Branch\, North County Branch Greensboro Description: Martin Luther King Jr. Day\nMore info: https://carolinecounty.librarycalendar.com/event/holiday-closing-1216\nActiveBury: https://www.activebury.com/events/1045
URL:https://www.activebury.com/events/1045
END:VEVENT
END:VCALENDAR
