BEGIN:VCALENDAR
VERSION:2.0
PRODID:-//ActiveBury//Events//EN
CALSCALE:GREGORIAN
BEGIN:VEVENT
UID:event-1044@activebury.com
DTSTAMP:20260425T133326Z
SUMMARY:Make a Tiny Library
DTSTART:20260115T173000
DTEND:20260115T193000
LOCATION:Central Branch Denton
DESCRIPTION:Do you walk into a library and instantly feel relaxed? Of course you do! Don't you wish you could take that feeling with you wherever you go?\nMore info: https://carolinecounty.librarycalendar.com/event/make-tiny-library-1791\nActiveBury: https://www.activebury.com/events/1044
URL:https://www.activebury.com/events/1044
END:VEVENT
END:VCALENDAR
