BEGIN:VCALENDAR
VERSION:2.0
PRODID:-//ActiveBury//Events//EN
CALSCALE:GREGORIAN
BEGIN:VEVENT
UID:event-1041@activebury.com
DTSTAMP:20260425T133841Z
SUMMARY:Melted Crayon Jewelry
DTSTART:20260113T180000
DTEND:20260113T193000
LOCATION:Federalsburg Branch
DESCRIPTION:Have you wondered what to do with broken\, unused crayons? Learn how to turn old crayons into colorful pieces of jewelry at this program! Join at the Federalsburg Branch from 6:00 to 7:30pm to create necklaces with melted recycled crayons.\nMore info: https://carolinecounty.librarycalendar.com/event/melted-crayon-jewelry-1957\nActiveBury: https://www.activebury.com/events/1041
URL:https://www.activebury.com/events/1041
END:VEVENT
END:VCALENDAR
