BEGIN:VCALENDAR
VERSION:2.0
PRODID:-//ActiveBury//Events//EN
CALSCALE:GREGORIAN
BEGIN:VEVENT
UID:event-1039@activebury.com
DTSTAMP:20260425T143528Z
SUMMARY:Winter/Spring Storytime
DTSTART:20260113T103000
DTEND:20260113T113000
LOCATION:North County Branch Greensboro
DESCRIPTION:Join us for a half-hour of fun songs\, stories\, and fingerplays that encourage the development of early literacy skills.\nMore info: https://carolinecounty.librarycalendar.com/event/winter-storytime-2015\nActiveBury: https://www.activebury.com/events/1039
URL:https://www.activebury.com/events/1039
END:VEVENT
END:VCALENDAR
