BEGIN:VCALENDAR
VERSION:2.0
PRODID:-//ActiveBury//Events//EN
CALSCALE:GREGORIAN
BEGIN:VEVENT
UID:event-1038@activebury.com
DTSTAMP:20260425T133959Z
SUMMARY:Caroline Craft (NCB) - Sand Art
DTSTART;VALUE=DATE:20260112
DTEND;VALUE=DATE:20260113
LOCATION:North County Branch Greensboro
DESCRIPTION:To help us ensure a fair distribution of our limited supply of Caro Crafts craft kits\, registration is required to receive kits starting January of 2026.\nMore info: https://carolinecounty.librarycalendar.com/event/caroline-craft-ncb-sand-art-2344\nActiveBury: https://www.activebury.com/events/1038
URL:https://www.activebury.com/events/1038
END:VEVENT
END:VCALENDAR
