BEGIN:VCALENDAR
VERSION:2.0
PRODID:-//ActiveBury//Events//EN
CALSCALE:GREGORIAN
BEGIN:VEVENT
UID:event-1036@activebury.com
DTSTAMP:20260425T153448Z
SUMMARY:Caroline Craft (Central) - Sand Art
DTSTART;VALUE=DATE:20260112
DTEND;VALUE=DATE:20260113
LOCATION:Central Branch Denton
DESCRIPTION:To help us ensure a fair distribution of our limited supply of Caro Crafts craft kits\, registration is required to receive kits starting January of 2026.\nMore info: https://carolinecounty.librarycalendar.com/event/caroline-craft-central-sand-art-2342\nActiveBury: https://www.activebury.com/events/1036
URL:https://www.activebury.com/events/1036
END:VEVENT
END:VCALENDAR
