BEGIN:VCALENDAR
VERSION:2.0
PRODID:-//ActiveBury//Events//EN
CALSCALE:GREGORIAN
BEGIN:VEVENT
UID:event-1035@activebury.com
DTSTAMP:20260425T133329Z
SUMMARY:Petite Picassos: Winter Fun
DTSTART:20260112T103000
DTEND:20260112T113000
LOCATION:Central Branch Denton
DESCRIPTION:Bring your little ones to this process art program! Children will experiment with different art materials and techniques. In this session\, your child will create winter-themed art. Dress for a mess. Registration required.\nMore info: https://carolinecounty.librarycalendar.com/event/petite-picassos-winter-fun-2144\nActiveBury: https://www.activebury.com/events/1035
URL:https://www.activebury.com/events/1035
END:VEVENT
END:VCALENDAR
