BEGIN:VCALENDAR
VERSION:2.0
PRODID:-//ActiveBury//Events//EN
CALSCALE:GREGORIAN
BEGIN:VEVENT
UID:event-1033@activebury.com
DTSTAMP:20260425T133955Z
SUMMARY:Kickstart Your Tax Season: Essential Tax Prep Basics
DTSTART:20260110T120000
DTEND:20260110T130000
LOCATION:Central Branch Denton
DESCRIPTION:Let’s begin the upcoming tax season on the right foot! This session will cover the fundamentals of tax preparation\, including how to correctly complete your W-4 and how to organize your income tax information throughout the year.\nMore info: https://carolinecounty.librarycalendar.com/event/kickstart-your-tax-season-essential-tax-prep-basics-1703\nActiveBury: https://www.activebury.com/events/1033
URL:https://www.activebury.com/events/1033
END:VEVENT
END:VCALENDAR
