BEGIN:VCALENDAR
VERSION:2.0
PRODID:-//ActiveBury//Events//EN
CALSCALE:GREGORIAN
BEGIN:VEVENT
UID:event-1032@activebury.com
DTSTAMP:20260425T133946Z
SUMMARY:Rivers & Rhodes: A Night of Soul and Sound
DTSTART:20260109T180000
DTEND:20260109T190000
LOCATION:Central Branch Denton
DESCRIPTION:Join us for a magical evening with Ashley Mitchell and Donny Marvel of Rivers & Rhodes.\nMore info: https://carolinecounty.librarycalendar.com/event/rivers-rhodes-night-soul-and-sound-1667\nActiveBury: https://www.activebury.com/events/1032
URL:https://www.activebury.com/events/1032
END:VEVENT
END:VCALENDAR
